View In:
ArcGIS JavaScript
ArcGIS Online Map Viewer
ArcGIS Earth
ArcMap
ArcGIS Pro
View Footprint In:
ArcGIS Online Map Viewer
Service Description: <div style='text-align:Left;'><div><div><p><span>Porastov</span><span>á</span><span> mapa</span><span>. Mierky zobrazenia jednotlivých tried objektov sú nastavené pre použitie vo webových mapách a aplikáciách.</span></p></div></div></div>
Map Name: Porastova mapa_web
Legend
All Layers and Tables
Layers:
Description:
Copyright Text: © NLC Zvolen
Spatial Reference:
102100
(3857)
LatestVCSWkid(0)
Single Fused Map Cache: true
Tile Info:
- Height: 256.0
- Width: 256.0
- DPI: 96.0
-
Levels of Detail: 24
-
Level ID: 1
[ Start Tile, End Tile ]
- Resolution: 78271.5169639999
- Scale: 2.95828763795777E8
-
Level ID: 2
[ Start Tile, End Tile ]
- Resolution: 39135.7584820001
- Scale: 1.47914381897889E8
-
Level ID: 3
[ Start Tile, End Tile ]
- Resolution: 19567.8792409999
- Scale: 7.3957190948944E7
-
Level ID: 4
[ Start Tile, End Tile ]
- Resolution: 9783.93962049996
- Scale: 3.6978595474472E7
-
Level ID: 5
[ Start Tile, End Tile ]
- Resolution: 4891.96981024998
- Scale: 1.8489297737236E7
- Format: PNG
- Compression Quality: 0.0
- Origin: X: -2.0037508342787E7
Y: 2.0037508342787E7
- Spatial Reference: 102100
(3857)
LatestVCSWkid(0)
Storage Info:
- Storage Format: esriMapCacheStorageModeCompactV2
- Packet Size: 128
Initial Extent:
XMin: 1871014.4243812119
YMin: 5959598.175621453
XMax: 2514799.8786187875
YMax: 6482310.054378544
Spatial Reference: 102100
(0)
LatestVCSWkid(0)
Full Extent:
XMin: 1873803.3625000007
YMin: 6062248.829999998
XMax: 2512744.4351999983
YMax: 6380422.7211000025
Spatial Reference: 102100
(0)
LatestVCSWkid(0)
Units: esriMeters
Supported Image Format Types: PNG32,PNG24,PNG,JPG,DIB,TIFF,EMF,PS,PDF,GIF,SVG,SVGZ,BMP
Document Info:
Title: Porastova mapa_web
Author:
Comments:
Subject:
Category:
Keywords: basemap,porastová mapa,tšmd
AntialiasingMode: Fast
TextAntialiasingMode: Force
Supports Dynamic Layers: false
Resampling: false
MaxRecordCount: 10000
MaxImageHeight: 4096
MaxImageWidth: 4096
Supported Query Formats: JSON, geoJSON, PBF
Supports Query Data Elements: true
Min Scale: 9244648.868618
Max Scale: 2256.994353
Min LOD: 6
Max LOD: 18
Supports Datum Transformation: true
Active Range Name:
Current Range Extent: [-998,1]
Child Resources:
Info
Supported Operations:
Export Map
Identify
QueryLegends
QueryDomains
Find
EstimateExportTilesSize
ExportTiles
Return Updates